BEGIN:VCALENDAR
VERSION:2.0
PRODID:-//Klubbase//NK Zagreb//HR
CALSCALE:GREGORIAN
METHOD:PUBLISH
X-WR-CALNAME:NK Zagreb - Mladi-pioniri-a1 Fixtures
X-WR-TIMEZONE:Europe/Zagreb

BEGIN:VTIMEZONE
TZID:Europe/Zagreb
BEGIN:DAYLIGHT
TZOFFSETFROM:+0100
TZOFFSETTO:+0200
TZNAME:CEST
DTSTART:19700329T020000
RRULE:FREQ=YEARLY;BYMONTH=3;BYDAY=-1SU
END:DAYLIGHT
BEGIN:STANDARD
TZOFFSETFROM:+0200
TZOFFSETTO:+0100
TZNAME:CET
DTSTART:19701025T030000
RRULE:FREQ=YEARLY;BYMONTH=10;BYDAY=-1SU
END:STANDARD
END:VTIMEZONE

BEGIN:VEVENT
UID:match-107896221@nk-zagreb.staging.klubbase.com
DTSTAMP:20260423T024250Z
DTSTART;TZID=Europe/Zagreb:20260425T000000
DTEND;TZID=Europe/Zagreb:20260425T020000
SUMMARY:NK Trnje (Z) vs NK Zagreb
DESCRIPTION:Natjecanje: 1. "A1" ZNL ZAGIĆI - skupina play OUT 25/26\\nDomaćin: NK Trnje (Z)\\nGost: NK Zagreb\\nStadion: Trnje
LOCATION:Trnje
CATEGORIES:Football,NK Zagreb
STATUS:CONFIRMED
TRANSP:BUSY
END:VEVENT

BEGIN:VEVENT
UID:match-107896229@nk-zagreb.staging.klubbase.com
DTSTAMP:20260423T024250Z
DTSTART;TZID=Europe/Zagreb:20260509T000000
DTEND;TZID=Europe/Zagreb:20260509T020000
SUMMARY:NK HAŠK 1903 vs NK Zagreb
DESCRIPTION:Natjecanje: 1. "A1" ZNL ZAGIĆI - skupina play OUT 25/26\\nDomaćin: NK HAŠK 1903\\nGost: NK Zagreb\\nStadion: Pešćenica
LOCATION:Pešćenica
CATEGORIES:Football,NK Zagreb
STATUS:CONFIRMED
TRANSP:BUSY
END:VEVENT

BEGIN:VEVENT
UID:match-107896232@nk-zagreb.staging.klubbase.com
DTSTAMP:20260423T024250Z
DTSTART;TZID=Europe/Zagreb:20260516T000000
DTEND;TZID=Europe/Zagreb:20260516T020000
SUMMARY:NK Zagreb vs NK Studentski grad
DESCRIPTION:Natjecanje: 1. "A1" ZNL ZAGIĆI - skupina play OUT 25/26\\nDomaćin: NK Zagreb\\nGost: NK Studentski grad\\nStadion: Veslačka
LOCATION:Veslačka
CATEGORIES:Football,NK Zagreb
STATUS:CONFIRMED
TRANSP:BUSY
END:VEVENT

BEGIN:VEVENT
UID:match-107896242@nk-zagreb.staging.klubbase.com
DTSTAMP:20260423T024250Z
DTSTART;TZID=Europe/Zagreb:20260523T000000
DTEND;TZID=Europe/Zagreb:20260523T020000
SUMMARY:NK Zagreb vs NK Dubrava Tim Kabel
DESCRIPTION:Natjecanje: 1. "A1" ZNL ZAGIĆI - skupina play OUT 25/26\\nDomaćin: NK Zagreb\\nGost: NK Dubrava Tim Kabel\\nStadion: Veslačka
LOCATION:Veslačka
CATEGORIES:Football,NK Zagreb
STATUS:CONFIRMED
TRANSP:BUSY
END:VEVENT

BEGIN:VEVENT
UID:match-107896243@nk-zagreb.staging.klubbase.com
DTSTAMP:20260423T024250Z
DTSTART;TZID=Europe/Zagreb:20260530T000000
DTEND;TZID=Europe/Zagreb:20260530T020000
SUMMARY:NK Trešnjevka vs NK Zagreb
DESCRIPTION:Natjecanje: 1. "A1" ZNL ZAGIĆI - skupina play OUT 25/26\\nDomaćin: NK Trešnjevka\\nGost: NK Zagreb\\nStadion: Graba
LOCATION:Graba
CATEGORIES:Football,NK Zagreb
STATUS:CONFIRMED
TRANSP:BUSY
END:VEVENT

END:VCALENDAR